BEGIN:VCALENDAR
VERSION:2.0
PRODID:-//Tomcsa Sándor Színház - ECPv6.14.1//NONSGML v1.0//EN
CALSCALE:GREGORIAN
METHOD:PUBLISH
X-ORIGINAL-URL:https://szinhaz.ro
X-WR-CALDESC:Események Tomcsa Sándor Színház
REFRESH-INTERVAL;VALUE=DURATION:PT1H
X-Robots-Tag:noindex
X-PUBLISHED-TTL:PT1H
BEGIN:VTIMEZONE
TZID:Europe/Bucharest
BEGIN:DAYLIGHT
TZOFFSETFROM:+0200
TZOFFSETTO:+0300
TZNAME:EEST
DTSTART:20100328T010000
END:DAYLIGHT
BEGIN:STANDARD
TZOFFSETFROM:+0300
TZOFFSETTO:+0200
TZNAME:EET
DTSTART:20101031T010000
END:STANDARD
END:VTIMEZONE
BEGIN:VEVENT
DTSTART;TZID=Europe/Bucharest:20101007T220000
DTEND;TZID=Europe/Bucharest:20101008T000000
DTSTAMP:20260425T185700
CREATED:20101007T130000Z
LAST-MODIFIED:20251024T060140Z
UID:3536-1286488800-1286496000@szinhaz.ro
SUMMARY:A tavasz ébredése
DESCRIPTION:„A látszaterkölcs társadalma egyre rafináltabba vált az utóbbi időszakban\, az az érzésünk\, hogy manapság már nyitott könyv az élet\, megannyi információs csatorna áll a serdülő gyermek rendelkezésére\, és az ő dolga válogatni az evidenciák között. \nKözben meg rájövünk minden egyes gyermektragédia kapcsán arra\, hogy mennyire cinikus ez a rendszer\, mely fokozott éberséggel vigyáz arra\, hogy bárminemű választás\, az a manipulált valóság keretei között történjen meg. \n(…) A mai kamasz állapota érdekel\, akire nincs idő odafigyelni\, mert a pénz utáni hajsza minden kis időnket fölemészti\, akinek „aberrált” ízlésvilágával nem tudunk mit kezdeni\, aki anarchista\, apa és anyaszomorító\, megveti az iskolát\, istentelen\, „deviáns” eszméket hallat\, aki van\, de valahogy\, folyamatosan utunkban van.” \nSzabó K. István\, rendező
URL:https://szinhaz.ro/esemeny/a-tavasz-ebredese/
ATTACH;FMTTYPE=image/jpeg:https://szinhaz.ro/wp-content/uploads/2022/05/atavaszebredesefejlec.jpg
END:VEVENT
BEGIN:VEVENT
DTSTART;TZID=Europe/Bucharest:20101012T180000
DTEND;TZID=Europe/Bucharest:20101012T200000
DTSTAMP:20260425T185700
CREATED:20101011T210000Z
LAST-MODIFIED:20260325T090818Z
UID:3541-1286906400-1286913600@szinhaz.ro
SUMMARY:Liselotte és a május
DESCRIPTION:Egy nő – hét találkozás. Hét kétségbeesett kísérlet a kapcsolatteremtésre. Liselotte\, aki tizenkét évig ápolt egy magatehetetlen nőt\, ráébred: az utolsó pillanatban van\, hogy rendezze életét. A néhai iskolatárs\, a házassági hirdetésre jelentkező\, a szerelő\, a költő\, a hajléktalan\, vagy valaki más lesz az\, aki kimenti a nőt reménytelen helyzetéből? Egyáltalán túlélik-e a találkozást? Liselotte a sorozatos kudarcok után Fekete Özvegynek kezdi hinni magát\, aki mindenkit felfal maga körül\, akiben csak egy kicsit is reménykedhet\, és közben nevethetünk is\, de csak addig\, amíg nem ismerünk végül önmagunkra.\n„Női” darab\, amely szeretettel\, megértéssel kezeli a mindenkori nőiséget.\nHalálok\, szenvedések\, egyéni tragédiák érlelik a minden percében figyelemkeltő\, izgalmas színművet a néző számára nem csak egy színházi előadás élményévé\, hanem az önvizsgálat lehetőségévé is. \nTapasztó Ernő
URL:https://szinhaz.ro/esemeny/liselotte-es-a-majus/
ATTACH;FMTTYPE=image/jpeg:https://szinhaz.ro/wp-content/uploads/2022/05/liselotteesamajusfejlec.jpg
END:VEVENT
END:VCALENDAR