BEGIN:VCALENDAR
VERSION:2.0
PRODID:-//Tomcsa Sándor Színház - ECPv6.14.1//NONSGML v1.0//EN
CALSCALE:GREGORIAN
METHOD:PUBLISH
X-ORIGINAL-URL:https://szinhaz.ro
X-WR-CALDESC:Események Tomcsa Sándor Színház
REFRESH-INTERVAL;VALUE=DURATION:PT1H
X-Robots-Tag:noindex
X-PUBLISHED-TTL:PT1H
BEGIN:VTIMEZONE
TZID:Europe/Bucharest
BEGIN:DAYLIGHT
TZOFFSETFROM:+0200
TZOFFSETTO:+0300
TZNAME:EEST
DTSTART:20170326T010000
END:DAYLIGHT
BEGIN:STANDARD
TZOFFSETFROM:+0300
TZOFFSETTO:+0200
TZNAME:EET
DTSTART:20171029T010000
END:STANDARD
END:VTIMEZONE
BEGIN:VEVENT
DTSTART;TZID=Europe/Bucharest:20170614T220000
DTEND;TZID=Europe/Bucharest:20170615T000000
DTSTAMP:20260420T063658
CREATED:20170614T130000Z
LAST-MODIFIED:20230110T101613Z
UID:4143-1497477600-1497484800@szinhaz.ro
SUMMARY:Idegen
DESCRIPTION:A Nagyvárad Táncegyüttes vendégelőadása \n  \nJorge Luise Borges Márk evangéliuma című novellája kitűnően mutatja be az emberi butaság\, illetve (hitbeli) befolyásolhatóság mélységeit és magasságait. \nA történet krisztusi korban lévő főszereplője egy csonka család életébe kapcsolódik be. Maga az alapmű megmutatja milyen hatalmas lehet a szakadék az egyén és a közösség között értelmi és érzelmi szinten egyaránt. Szól a valóság és a képzelt világ párhuzamáról\, a vak hitről\, arról hogy hogyan válhat egy mester a tanítványai áldozatává… \nAz előadás a szent és a profán ellentétén keresztül világít rá azokra a jellemváltozásokra\, ami a hiten\, befolyásolhatóságon\, áldozathozatalon keresztül történhet meg az emberekben. Az előadás 2018. októberében került bemutatásra.
URL:https://szinhaz.ro/esemeny/idegen/
ATTACH;FMTTYPE=image/jpeg:https://szinhaz.ro/wp-content/uploads/2022/06/cover-1024x579-1.jpg
END:VEVENT
BEGIN:VEVENT
DTSTART;TZID=Europe/Bucharest:20170614T220000
DTEND;TZID=Europe/Bucharest:20170615T000000
DTSTAMP:20260420T063658
CREATED:20170614T130000Z
LAST-MODIFIED:20230110T101614Z
UID:4181-1497477600-1497484800@szinhaz.ro
SUMMARY:És Rómeó és Júlia
DESCRIPTION:A Piros. Produkció szervezésében látható előadás \n  \n“Elmesélünk egy történetet azokkal a lehetőségekkel és szabadsággal\, amelyet egy mesélői helyzet megenged. Azzal a korlátlan fantáziával (játékosan\, mégis komolyan véve)\, ahogy az ember komolyan beszél a gyerekekkel szerelemről\, halálról\, tisztességről\, barátságról.” (Rudolf Péter) \nKetten vannak a világot jelentő deszkákon. Shakespeare világát jelentik. Egy halálra ítélt\, halhatatlan szerelem történetét. Ám Nagy-Kálózy Eszter és Rudolf Péter nemcsak a szerelmespárt alakítják. Varázsos játékukkal életre keltik egész Veronát. Testük egyben a díszlet is. Gesztusok\, mozdulatok fantáziadús jelrendszerével változnak egy pillanat alatt figuráról figurára. Öntörvényű\, lázas száguldás\, egy drámaköltő zseni kottája alapján.
URL:https://szinhaz.ro/esemeny/es-romeo-es-julia/
ATTACH;FMTTYPE=image/jpeg:https://szinhaz.ro/wp-content/uploads/2022/06/86293464_2286595678300986_8207647936759201792_o-1024x536-1.jpg
END:VEVENT
BEGIN:VEVENT
DTSTART;TZID=Europe/Bucharest:20170614T220000
DTEND;TZID=Europe/Bucharest:20170615T000000
DTSTAMP:20260420T063658
CREATED:20170614T160000Z
LAST-MODIFIED:20230116T120818Z
UID:4146-1497477600-1497484800@szinhaz.ro
SUMMARY:Vannak vidékek – Bogdán Zsolt és a Kaláka együttes Kányádi estje
DESCRIPTION:A Kaláka számára a nyolcvanas évek óta nincs koncert Kányádi-dal nélkül. Sándor bácsi meghatározó atyai jóbarát lett az életükben. Sok verset ajánlott\, hogy dal szülessék belőle\, sokat utaztak együtt\, számtalan emléket\, mondást\, történetet őriznek vele kapcsolatban. Elveszett követ\, Faragott versike\, Valaki jár a fák hegyén\, Dél keresztje alatt\, Két nyárfa\, Kuplé a vörös villamosról\, Alma\, alma… sorolhatnánk tovább a sokak számára kedves verseket-dalokat. \n  \nA Kaláka együttes pályafutásának 50. évébe lépve elhatározta\, hogy Bogdán Zsolttal\, a Magyarországon is filmekből\, előadóestjeiről (többek között Ady-műsoráról) ismert kiváló kolozsvári színésszel közösen előadást tart Budapesten a Vigadóban\, Kolozsvári Állami Magyar Színházban és a Tomcsa Sándor Színházban\, melyen az ezredforduló legnagyobb magyar költője\, Kányádi Sándor verseit hallhatja a közönség. \n 
URL:https://szinhaz.ro/esemeny/vannak-videkek-bogdan-zsolt-es-a-kalaka-egyuttes-kanyadi-estje/
ATTACH;FMTTYPE=image/jpeg:https://szinhaz.ro/wp-content/uploads/2022/06/banner-750x400-1-1-1024x536-1.jpg
END:VEVENT
END:VCALENDAR