BEGIN:VCALENDAR
VERSION:2.0
PRODID:-//Tomcsa Sándor Színház - ECPv6.14.1//NONSGML v1.0//EN
CALSCALE:GREGORIAN
METHOD:PUBLISH
X-ORIGINAL-URL:https://szinhaz.ro
X-WR-CALDESC:Események Tomcsa Sándor Színház
REFRESH-INTERVAL;VALUE=DURATION:PT1H
X-Robots-Tag:noindex
X-PUBLISHED-TTL:PT1H
BEGIN:VTIMEZONE
TZID:Europe/Bucharest
BEGIN:DAYLIGHT
TZOFFSETFROM:+0200
TZOFFSETTO:+0300
TZNAME:EEST
DTSTART:20110327T010000
END:DAYLIGHT
BEGIN:STANDARD
TZOFFSETFROM:+0300
TZOFFSETTO:+0200
TZNAME:EET
DTSTART:20111030T010000
END:STANDARD
BEGIN:DAYLIGHT
TZOFFSETFROM:+0200
TZOFFSETTO:+0300
TZNAME:EEST
DTSTART:20120325T010000
END:DAYLIGHT
BEGIN:STANDARD
TZOFFSETFROM:+0300
TZOFFSETTO:+0200
TZNAME:EET
DTSTART:20121028T010000
END:STANDARD
BEGIN:DAYLIGHT
TZOFFSETFROM:+0200
TZOFFSETTO:+0300
TZNAME:EEST
DTSTART:20130331T010000
END:DAYLIGHT
BEGIN:STANDARD
TZOFFSETFROM:+0300
TZOFFSETTO:+0200
TZNAME:EET
DTSTART:20131027T010000
END:STANDARD
BEGIN:DAYLIGHT
TZOFFSETFROM:+0200
TZOFFSETTO:+0300
TZNAME:EEST
DTSTART:20140330T010000
END:DAYLIGHT
BEGIN:STANDARD
TZOFFSETFROM:+0300
TZOFFSETTO:+0200
TZNAME:EET
DTSTART:20141026T010000
END:STANDARD
BEGIN:DAYLIGHT
TZOFFSETFROM:+0200
TZOFFSETTO:+0300
TZNAME:EEST
DTSTART:20150329T010000
END:DAYLIGHT
BEGIN:STANDARD
TZOFFSETFROM:+0300
TZOFFSETTO:+0200
TZNAME:EET
DTSTART:20151025T010000
END:STANDARD
BEGIN:DAYLIGHT
TZOFFSETFROM:+0200
TZOFFSETTO:+0300
TZNAME:EEST
DTSTART:20160327T010000
END:DAYLIGHT
BEGIN:STANDARD
TZOFFSETFROM:+0300
TZOFFSETTO:+0200
TZNAME:EET
DTSTART:20161030T010000
END:STANDARD
BEGIN:DAYLIGHT
TZOFFSETFROM:+0200
TZOFFSETTO:+0300
TZNAME:EEST
DTSTART:20170326T010000
END:DAYLIGHT
BEGIN:STANDARD
TZOFFSETFROM:+0300
TZOFFSETTO:+0200
TZNAME:EET
DTSTART:20171029T010000
END:STANDARD
BEGIN:DAYLIGHT
TZOFFSETFROM:+0200
TZOFFSETTO:+0300
TZNAME:EEST
DTSTART:20180325T010000
END:DAYLIGHT
BEGIN:STANDARD
TZOFFSETFROM:+0300
TZOFFSETTO:+0200
TZNAME:EET
DTSTART:20181028T010000
END:STANDARD
BEGIN:DAYLIGHT
TZOFFSETFROM:+0200
TZOFFSETTO:+0300
TZNAME:EEST
DTSTART:20190331T010000
END:DAYLIGHT
BEGIN:STANDARD
TZOFFSETFROM:+0300
TZOFFSETTO:+0200
TZNAME:EET
DTSTART:20191027T010000
END:STANDARD
BEGIN:DAYLIGHT
TZOFFSETFROM:+0200
TZOFFSETTO:+0300
TZNAME:EEST
DTSTART:20200329T010000
END:DAYLIGHT
BEGIN:STANDARD
TZOFFSETFROM:+0300
TZOFFSETTO:+0200
TZNAME:EET
DTSTART:20201025T010000
END:STANDARD
BEGIN:DAYLIGHT
TZOFFSETFROM:+0200
TZOFFSETTO:+0300
TZNAME:EEST
DTSTART:20210328T010000
END:DAYLIGHT
BEGIN:STANDARD
TZOFFSETFROM:+0300
TZOFFSETTO:+0200
TZNAME:EET
DTSTART:20211031T010000
END:STANDARD
BEGIN:DAYLIGHT
TZOFFSETFROM:+0200
TZOFFSETTO:+0300
TZNAME:EEST
DTSTART:20220327T010000
END:DAYLIGHT
BEGIN:STANDARD
TZOFFSETFROM:+0300
TZOFFSETTO:+0200
TZNAME:EET
DTSTART:20221030T010000
END:STANDARD
BEGIN:DAYLIGHT
TZOFFSETFROM:+0200
TZOFFSETTO:+0300
TZNAME:EEST
DTSTART:20230326T010000
END:DAYLIGHT
BEGIN:STANDARD
TZOFFSETFROM:+0300
TZOFFSETTO:+0200
TZNAME:EET
DTSTART:20231029T010000
END:STANDARD
BEGIN:DAYLIGHT
TZOFFSETFROM:+0200
TZOFFSETTO:+0300
TZNAME:EEST
DTSTART:20240331T010000
END:DAYLIGHT
BEGIN:STANDARD
TZOFFSETFROM:+0300
TZOFFSETTO:+0200
TZNAME:EET
DTSTART:20241027T010000
END:STANDARD
BEGIN:DAYLIGHT
TZOFFSETFROM:+0200
TZOFFSETTO:+0300
TZNAME:EEST
DTSTART:20250330T010000
END:DAYLIGHT
BEGIN:STANDARD
TZOFFSETFROM:+0300
TZOFFSETTO:+0200
TZNAME:EET
DTSTART:20251026T010000
END:STANDARD
BEGIN:DAYLIGHT
TZOFFSETFROM:+0200
TZOFFSETTO:+0300
TZNAME:EEST
DTSTART:20260329T010000
END:DAYLIGHT
BEGIN:STANDARD
TZOFFSETFROM:+0300
TZOFFSETTO:+0200
TZNAME:EET
DTSTART:20261025T010000
END:STANDARD
END:VTIMEZONE
BEGIN:VEVENT
DTSTART;TZID=Europe/Bucharest:20110508T120000
DTEND;TZID=Europe/Bucharest:20260327T170000
DTSTAMP:20260423T210052
CREATED:20110507T210000Z
LAST-MODIFIED:20260327T071848Z
UID:25434-1304856000-1774630800@szinhaz.ro
SUMMARY:Mustármag
DESCRIPTION:MUSTÁRMAG – EGYÉNI MŰSOR WASS ALBERT MŰVEIBŐL \nAlkotók: \nKulcsár-Székely Attila: színművész\nCsurulya Csongor: rendező\nDerzsi Dénkó: zenész. Az előadásban szereplő „Dalol a honvágy” című dal zenei kíséretének megalkotója.\nTóth Árpád: A Székelyudvarhelyi Tomcsa Sándor Színház színművésze és az előadás zenei szerkesztője\nKulcsár – Székely Melinda: világosító\, hangosító\nZene: Kormorán \n  \n„MUSTÁRMAG” – Wass Albert írásaiból összeállított egyéni műsor \nElőadja: Kulcsár – Székely Attila \nRendező: Csurulya Csongor \nAz ötlet megszületése 2009 decemberéig nyúlik vissza\, amikor egy karitatív akció keretén belül – jelesül az előadás honoráriumának elengedésével – eleget tettünk Kémenes Lóránt Tür községbeli katolikus plébános meghívásának és az ott élő  maroknyi szórvány magyarságnak eljátszottuk a jelenleg is futó egyéni előadásunkat a Virágot Algernonnak című monodrámát. (Tür község\, Balázsfalva árnyékában  tengődő szórvány magyar település.) \n  \nAz előadás utáni beszélgetés során fogalmazódott meg bennünk\, hogy készíteni kellene egy olyan műsort\, amelynek elsődleges célja\, hogy erősítse az erdélyi- és összmagyar nemzeti öntudatot\, és az elkövetkező évek során eljuthasson a legtávolibb szórvány magyarsághoz is. Ennek érdekében könnyen mozdítható legyen\, ne igényeljen nagy technikai hátteret és természetesen amelynek témája is a fent említett lakosságnak szóljon. Így esett a választásunk Wass Albertre. \nA fent említett célokon kívül azt a küldetést is szolgálná\, hogy az egyik legnagyobb magyar írónkról eloszlassuk azt a tévhitet\, hogy Wass Albert múltba forduló\, búsongó\, jövőkép és optimizmusnélküli\, nacionalista és antiszemita. \n  \nKulcsár – Székely Attila az előadás szövegét\, az író verseiből\, regényeiből\, publicisztikáiból állította össze.\nKormorán együttes – a tőlük ismert nagylelkűséggel\, a jogdíj elengedésével – a zenéjükkel támogatja az előadást.\nA műsor mind szövegben\, mind előadásában úgy van kitalálva\, hogy bármilyen kis térben eljátszható legyen\, főleg templomokban\, imaházakban\, parókiákon.\nTovábbi célunk\, hogy legyen egy olyan nemzeti hovatartozást erősítő előadásunk\, amely a magyar nemzet jeles ünnepein\, megemlékezésein kerülne előtérbe. Így született meg az ötlet\, hogy az előadás Székelyudvarhelyi bemutatója 2011. június 4-én lenne\, a trianoni emléknapon.\nA tulajdonképpeni bemutató Türben lesz\, 2011. május 8-án\, ezzel letéve a szórvány magyarságot érintő és támogató előadássorozat alapkövét.
URL:https://szinhaz.ro/esemeny/mustarmag/
ATTACH;FMTTYPE=image/jpeg:https://szinhaz.ro/wp-content/uploads/2026/03/m.jpg
END:VEVENT
BEGIN:VEVENT
DTSTART;TZID=Europe/Bucharest:20130327T140000
DTEND;TZID=Europe/Bucharest:20130327T160000
DTSTAMP:20260423T210052
CREATED:20130327T080000Z
LAST-MODIFIED:20251024T060835Z
UID:3582-1364392800-1364400000@szinhaz.ro
SUMMARY:Nemfélek János
DESCRIPTION:A hős mítosza minden kultúrában megtalálható. Hatalmas\, erős\, nemes lelkű ember\, aki az igazság érvényesítésével\, nagy tettek véghezvitelével mintegy rendet teremt az életben. A mítoszok héroszai és a mesék hősei győzelemre predesztináltak. Megölik a sárkányt\, megszabadítják az elrabolt égitesteket és az elrabolt királykisasszonyokat. Megtisztítják a világot attól\, ami nem odavaló\, és visszaszerzik azt\, ami valaha odavaló volt. De a tündérmesék hősei nem csak idealizált\, jó tulajdonságokkal rendelkezőek\, vannak köztük haszontalanok\, buták\, ügyetlenek\, egyszerűek\, jámborak is\, akik azáltal válnak hősökké\, hogy legyőzik magukban a „rosszat”. \nKözéjük tartozik a félelemkereső\, akinek számos változatát megtalálhatjuk a magyar irodalomban. A félelemkereső\, más néven Nemfélek János\, nem lehet addig boldog\, míg nem ismeri meg a félelmet. De hogyan kell azt megismerni? \nAz előadás egy ilyen félelemkeresés történetét kíséri végig Bátor Janka és Nemtudomka János történetét\, akik több próbát kiállva érnek el az út végén a felismeréshez\, mindezt úgy\, hogy közben a mese a gyerekek képzeletében születik meg. De hogyan születik meg a bátor gyerek története a nézőtéren üldögélő gyerek fantáziájában? \nOlyan eszközöket – tárgyakat\, hangokat\, fényeket\, zenét – használnak az alkotók\, amik segíteni tudják őket ebben. Nem a rémségekre\, hanem a történet humorára helyeződik a hangsúly. Hogy nevetségessé váljanak az iparkodó szellemek. Mert mikor\, ha nem a színházban van lehetőségünk arra\, hogy kinevessük a lidérceinket? Akikkel\, ha nem is könnyű\, de együtt kell élnünk.
URL:https://szinhaz.ro/esemeny/nemfelek-janos/
ATTACH;FMTTYPE=image/jpeg:https://szinhaz.ro/wp-content/uploads/2022/05/nemfelekjanosfejlec.jpg
END:VEVENT
BEGIN:VEVENT
DTSTART;TZID=Europe/Bucharest:20130410T180000
DTEND;TZID=Europe/Bucharest:20130410T200000
DTSTAMP:20260423T210052
CREATED:20130410T160000Z
LAST-MODIFIED:20251024T060851Z
UID:3592-1365616800-1365624000@szinhaz.ro
SUMMARY:V-Day
DESCRIPTION:A V-day\, vagyis V-nap. A világ egyik legnagyobb nőkön és gyerekeken elkövetett erőszak elleni mozgalom elnevezése. Eve Ensler híres Vagina monológok című darabját minden évben február 14-én jótékonysági előadásként mutatják be híres színésznők\, médiaszemélyiségek\, aktivisták\, celebek\, és a bevételt a nők elleni erőszak ellen küzdők\, vagy bántalmazott nők menedékotthonai kapják meg. \nA szerelmesek Bálint napján ünnepelnek\, de a szerelem gyakran csap át párkapcsolati erőszakba\, ami nem egyszer a lány életével végződik. Ebben az előadásban az erőszak ellen\, a nők mellett állunk ki. \nA V-Day az angol Vagina (vagina)\, Violence (erőszak)\, Valentine (Bálint) és Victory (győzelem) szavak első betűjéből alkotott szójáték\, egyben utalás a második világháború diadalmas összefogásának és ellencsapásának kezdetére\, a D-dayre.  Ebben az esetben pedig a küzdelem célja\, hogy legyen már vége a nők és gyermeklányok elleni erőszaknak az egész világon. \nEbben az előadásban egyfajta ötvözetet látunk: a Vagina monológok\, és szerencsétlenül járt\, bántalmazott\, megalázott\, megerőszakolt\, kínzásokon átesett nők vallomásainak ötvözetét. Az előadás nem egy kerek\, logikusan követhető történet\, aminek eleje van\, drámai fordulópontja\, és végkifejlete. És főleg nincs happy end. \nEz az előadás segélykiáltás. Ez az előadás figyelemfelkeltés\, könyörgés\, ima\, szeretetre vágyakozás\, támasz keresés. \nEve Ensler írása interjúk egész arzenálja\, amelyben nők mesélnek arról\, hogy ők hogyan látják\, érzik\, és észlelik saját magukat. Ebben az előadásban azonban ezeken a monológokon\, vallomásokon kívül négy igaz történeten alapuló elbeszélés került bele. Négy nő arról beszél\, hogy és milyen kálvárián keresztül érték el a felnőttkort. Apu agresszív\, anyu alkoholista\, a bátyám molesztál\, a szomszéd megerőszakol\, a barátom ver\, a havereim kihasználnak\, és sorolhatnánk. \nNégy nő\, akik extrém sűrítményben személyesítik meg mindazokat a lányokat\, nőket\, asszonyokat\, akiknek az a tény\, hogy nőnek születtek csapdát jelentett az életük során. Akik azt az isteni áldást\, hogy anyáknak teremtettek\, kínszenvedésként\, lelki és testi terrorként élik meg. Azokat képviselik\, akik félnek reggel\, délben\, este\, rettegnek attól\, hogy ki mikor mit tesz velük. Akik életükön keresztül lelki\, testi sérültként kell tengődniük\, mert a férfiak egyszer használatos tárgyként kezelték őket. Azok az emberi lények ők\, akiknek a hangjukat mindig elviszi a társadalmi helyzetük szele. Nos az ő segélykiáltásuk az előadás. Az ő hangjuk ez az előadás. Az ő lelkük ez az előadás. Az előadásban nincs magyarázat\, nincs válaszadás\, nincs megoldás kínálat\, nincs járható út\, csak tények vannak és a kőkemény valóság.
URL:https://szinhaz.ro/esemeny/v-day/
LOCATION:Székelyudvarhely\, Hargita\, 535600\, Romania
ATTACH;FMTTYPE=image/jpeg:https://szinhaz.ro/wp-content/uploads/2022/05/vaginamonologfejlec.jpg
END:VEVENT
END:VCALENDAR