BEGIN:VCALENDAR
VERSION:2.0
PRODID:-//Tomcsa Sándor Színház - ECPv6.14.1//NONSGML v1.0//EN
CALSCALE:GREGORIAN
METHOD:PUBLISH
X-ORIGINAL-URL:https://szinhaz.ro
X-WR-CALDESC:Események Tomcsa Sándor Színház
REFRESH-INTERVAL;VALUE=DURATION:PT1H
X-Robots-Tag:noindex
X-PUBLISHED-TTL:PT1H
BEGIN:VTIMEZONE
TZID:Europe/Bucharest
BEGIN:DAYLIGHT
TZOFFSETFROM:+0200
TZOFFSETTO:+0300
TZNAME:EEST
DTSTART:20110327T010000
END:DAYLIGHT
BEGIN:STANDARD
TZOFFSETFROM:+0300
TZOFFSETTO:+0200
TZNAME:EET
DTSTART:20111030T010000
END:STANDARD
END:VTIMEZONE
BEGIN:VEVENT
DTSTART;TZID=Europe/Bucharest:20110324T210000
DTEND;TZID=Europe/Bucharest:20110324T230000
DTSTAMP:20260425T141221
CREATED:20110324T150000Z
LAST-MODIFIED:20251024T060304Z
UID:3543-1301000400-1301007600@szinhaz.ro
SUMMARY:Portugál
DESCRIPTION:Egressy Zoltán darabjának története egy Irgács fantázianevű magyar faluban játszódik\, valahol a világ végén. Mivel a szerző használja a fantázia szót\, teret nyit megteremteni egy olyan helyszínt és világot\, ami a valóságtól elrugaszkodva egy keserű mese a sors reménytelenségéről. Egy furcsa kisfalu ez\, ahol az emberek el vannak zárva a világtól\, saját életük pedig egy mindennapos semmittevés az alkohol gőzében. Nem is tudják\, mi történik a világban\, a saját rendjük szerint élve küszködnek önmagukkal. A falu központja egy kocsma\, a találkozások helye. A nyomort humorral ábrázoló szöveg ellentmondásos figurákat sorakoztat fel\, sem elítélni\, sem elfogadni nem lehet ezeket a szereplőket. Ez egy emberközeli és földszagú előadásnak tud alapanyag lenni. A kocsmáros lánya\, Masni férjhez kellene\, hogy menjen\, mert mindenki szerint már abban a korban van. Ő nem szeretne hozzámenni az édesapját erről meggyőző Retekhez\, mivel nem szereti a fiút. A faluban megjelenik egy Pestről vidékre menekült kezdő író\, aki abban az illúzióban élve\, hogy eljut Portugáliáig\, útnak indult. A titokzatos idegen és a lány egymásba szeret\, amikor megérkezik az idegen felesége\, hogy hazavigye őt. Masni számára megszűnik az egyetlen lehetőség a boldogságra\, vagyis\, hogy elhagyja ezt a falut. \nZakariás Zalán
URL:https://szinhaz.ro/esemeny/portugal/
ATTACH;FMTTYPE=image/jpeg:https://szinhaz.ro/wp-content/uploads/2022/05/portugalfejlec.jpg
END:VEVENT
END:VCALENDAR