BEGIN:VCALENDAR
VERSION:2.0
PRODID:-//Tomcsa Sándor Színház - ECPv6.14.1//NONSGML v1.0//EN
CALSCALE:GREGORIAN
METHOD:PUBLISH
X-ORIGINAL-URL:https://szinhaz.ro
X-WR-CALDESC:Események Tomcsa Sándor Színház
REFRESH-INTERVAL;VALUE=DURATION:PT1H
X-Robots-Tag:noindex
X-PUBLISHED-TTL:PT1H
BEGIN:VTIMEZONE
TZID:Europe/Bucharest
BEGIN:DAYLIGHT
TZOFFSETFROM:+0200
TZOFFSETTO:+0300
TZNAME:EEST
DTSTART:20110327T010000
END:DAYLIGHT
BEGIN:STANDARD
TZOFFSETFROM:+0300
TZOFFSETTO:+0200
TZNAME:EET
DTSTART:20111030T010000
END:STANDARD
END:VTIMEZONE
BEGIN:VEVENT
DTSTART;TZID=Europe/Bucharest:20110314T140000
DTEND;TZID=Europe/Bucharest:20110314T160000
DTSTAMP:20260426T054901
CREATED:20110314T080000Z
LAST-MODIFIED:20251024T060248Z
UID:3538-1300111200-1300118400@szinhaz.ro
SUMMARY:Csipkerózsika
DESCRIPTION:Olyan világ ez\, amely ott él benned és bennem\, a nap minden pillanatában. A mese\, a tánc\, az ének\, a színek\, a hangok azok\, amik igazán eljutnak a lelkünkig és gyakran felrázzák azt a szendergő létezésből. Újra meg újra gyerekké változtatnak és fel-feldobnak a csillagokig. Olykor fájdalmas elutazni a benső világunkig\, olykor meg egészen mulatságos. Csipkerózsika története énekkel\, tánccal\, színekkel és hangokkal kopogtat lelkecskénk ajtaján és dúdolja fülünkbe: Csipkerózsika vár téged\, Isten vezesse ösvényed. \nBartha Lóránd
URL:https://szinhaz.ro/esemeny/csipkerozsika/
ATTACH;FMTTYPE=image/jpeg:https://szinhaz.ro/wp-content/uploads/2022/05/csipkerozsikafejlec.jpg
END:VEVENT
END:VCALENDAR