BEGIN:VCALENDAR
VERSION:2.0
PRODID:-//Tomcsa Sándor Színház - ECPv6.14.1//NONSGML v1.0//EN
CALSCALE:GREGORIAN
METHOD:PUBLISH
X-ORIGINAL-URL:https://szinhaz.ro
X-WR-CALDESC:Események Tomcsa Sándor Színház
REFRESH-INTERVAL;VALUE=DURATION:PT1H
X-Robots-Tag:noindex
X-PUBLISHED-TTL:PT1H
BEGIN:VTIMEZONE
TZID:Europe/Bucharest
BEGIN:DAYLIGHT
TZOFFSETFROM:+0200
TZOFFSETTO:+0300
TZNAME:EEST
DTSTART:20110327T010000
END:DAYLIGHT
BEGIN:STANDARD
TZOFFSETFROM:+0300
TZOFFSETTO:+0200
TZNAME:EET
DTSTART:20111030T010000
END:STANDARD
END:VTIMEZONE
BEGIN:VEVENT
DTSTART;TZID=Europe/Bucharest:20110113T210000
DTEND;TZID=Europe/Bucharest:20110113T230000
DTSTAMP:20260425T173312
CREATED:20110113T150000Z
LAST-MODIFIED:20251023T082153Z
UID:3540-1294952400-1294959600@szinhaz.ro
SUMMARY:Irma\, te édes
DESCRIPTION:… és ha a szerelem beköszön\, akkor nincs megállás. Öröm van és bánat\, harc van és kudarc\, minden\, ami arra „szolgál”\, hogy szívünk választottját meghódítsuk\, és ha már megvan\, megtartsuk annak\, amivé választottuk. Dalra fakadunk\, ha muszáj\, éjszakázunk\, dühöngünk és veszekedünk\, gyűlölünk\, acsarkodunk\, örülünk és búsulunk\, egyszóval: SZERETÜNK. \nLehet ezt ennél egyszerűbben? \nNem! \nHa már ide jutottunk\, hogy szerelmesek legyünk\, mindegy\, hogy választás volt vagy véletlen\, akkor viselni kell a következményeket. \nÍme\, egy romantikus történet egy szerelemről\, amelyben két fiatal találkozik\, egy nem épp a szerelem számára ideális környezetben\, de az egymást keresésük mégis egymás felé vezeti őket. A többit majd… az előadás. \n  \nCsurulya Csongor\, rendező
URL:https://szinhaz.ro/esemeny/irma-te-edes/
ATTACH;FMTTYPE=image/jpeg:https://szinhaz.ro/wp-content/uploads/2022/05/irmateedesfejlec.jpg
END:VEVENT
END:VCALENDAR