BEGIN:VCALENDAR
VERSION:2.0
PRODID:-//Tomcsa Sándor Színház - ECPv6.14.1//NONSGML v1.0//EN
CALSCALE:GREGORIAN
METHOD:PUBLISH
X-ORIGINAL-URL:https://szinhaz.ro
X-WR-CALDESC:Események Tomcsa Sándor Színház
REFRESH-INTERVAL;VALUE=DURATION:PT1H
X-Robots-Tag:noindex
X-PUBLISHED-TTL:PT1H
BEGIN:VTIMEZONE
TZID:Europe/Bucharest
BEGIN:DAYLIGHT
TZOFFSETFROM:+0200
TZOFFSETTO:+0300
TZNAME:EEST
DTSTART:20240331T010000
END:DAYLIGHT
BEGIN:STANDARD
TZOFFSETFROM:+0300
TZOFFSETTO:+0200
TZNAME:EET
DTSTART:20241027T010000
END:STANDARD
END:VTIMEZONE
BEGIN:VEVENT
DTSTART;TZID=Europe/Bucharest:20241207T170000
DTEND;TZID=Europe/Bucharest:20241207T180000
DTSTAMP:20260420T163658
CREATED:20241206T220000Z
LAST-MODIFIED:20251121T074510Z
UID:19598-1733590800-1733594400@szinhaz.ro
SUMMARY:Végy szívünkben szállást!
DESCRIPTION:Ünnepre hangoló családoknak\n\n\nEmlékeztek még\, milyen az égboltot fürkészni\, hátha elcsípünk egy angyalszárny suhanást vagy csak egy falatka loknit a titokzatos ruhából? Takarítani\, készülődni\, csak a jóra figyelni\, sejteni a születendő csodát?\n\nKözös várakozásra hívunk benneteket\, szülők és gyerekek\, ahol mesével\, énekszóval és angyalokkal igyekszünk közelebb jutni a karácsony bensőségességéhez. Mert angyaljárás van advent idején\, ugye emlékeztek?\n\n\nA helyek száma korlátozott\, minden résztvevőnek jegyet kell váltani\, melynek ára 10 lej. A helyszínen nem áll módunkban jegyet árulni\, ezért ajánlott kiváltani személyesen a jegypénztárban\, hétköznapokon 11-14 és 15-17 óra között\, vagy online.\n\n\n 
URL:https://szinhaz.ro/esemeny/vegy-szivunkben-szallast/2024-12-07/
CATEGORIES:ünnepre hangoló családoknak
ATTACH;FMTTYPE=image/jpeg:https://szinhaz.ro/wp-content/uploads/2024/11/adventi_csaladoknak_EVENT_cover-scaled.jpg
END:VEVENT
END:VCALENDAR