BEGIN:VCALENDAR
VERSION:2.0
PRODID:-//Tomcsa Sándor Színház - ECPv6.14.1//NONSGML v1.0//EN
CALSCALE:GREGORIAN
METHOD:PUBLISH
X-ORIGINAL-URL:https://szinhaz.ro
X-WR-CALDESC:Események Tomcsa Sándor Színház
REFRESH-INTERVAL;VALUE=DURATION:PT1H
X-Robots-Tag:noindex
X-PUBLISHED-TTL:PT1H
BEGIN:VTIMEZONE
TZID:Europe/Bucharest
BEGIN:DAYLIGHT
TZOFFSETFROM:+0200
TZOFFSETTO:+0300
TZNAME:EEST
DTSTART:20030330T010000
END:DAYLIGHT
BEGIN:STANDARD
TZOFFSETFROM:+0300
TZOFFSETTO:+0200
TZNAME:EET
DTSTART:20031026T010000
END:STANDARD
END:VTIMEZONE
BEGIN:VEVENT
DTSTART;TZID=Europe/Bucharest:20031205T210000
DTEND;TZID=Europe/Bucharest:20031205T230000
DTSTAMP:20260424T223135
CREATED:20031205T170000Z
LAST-MODIFIED:20251023T114206Z
UID:2760-1070658000-1070665200@szinhaz.ro
SUMMARY:A lázadó
DESCRIPTION:„A beteg ember kiszolgáltatottságát – és ennek következtében lázadását – hűen tükröző történet főszereplője Sándor\, az író. A harmincas éveit taposó férfi évek óta ágyhoz kötött tüdőbeteg\, akit fiatal felesége\, Olga\, valamint annak nővére\, a Tini mamának becézett Klementin ápol. Fontos figurája a darabnak Papi a lányok apja\, aki szinte véletlenül válik a történet részesévé. De vajon meddig tudja a környezete elviselni a lázadó férfi – olykor érthető – viselkedését? Meddig tart a két nő odaadása\, kitartása? Mi lesz a vége az állandó ágyhoz kötöttségnek\, a beteg szenvedésének\, vívódásának?”. \nSzász Emese – Hargita Népe\, 2003. december 19.
URL:https://szinhaz.ro/esemeny/a-lazado/
CATEGORIES:tragikomédia
ATTACH;FMTTYPE=image/jpeg:https://szinhaz.ro/wp-content/uploads/2022/04/lazadofejlec.jpg
END:VEVENT
END:VCALENDAR