BEGIN:VCALENDAR
VERSION:2.0
PRODID:-//Tomcsa Sándor Színház - ECPv6.14.1//NONSGML v1.0//EN
CALSCALE:GREGORIAN
METHOD:PUBLISH
X-ORIGINAL-URL:https://szinhaz.ro
X-WR-CALDESC:Események Tomcsa Sándor Színház
REFRESH-INTERVAL;VALUE=DURATION:PT1H
X-Robots-Tag:noindex
X-PUBLISHED-TTL:PT1H
BEGIN:VTIMEZONE
TZID:Europe/Bucharest
BEGIN:DAYLIGHT
TZOFFSETFROM:+0200
TZOFFSETTO:+0300
TZNAME:EEST
DTSTART:20010325T010000
END:DAYLIGHT
BEGIN:STANDARD
TZOFFSETFROM:+0300
TZOFFSETTO:+0200
TZNAME:EET
DTSTART:20011028T010000
END:STANDARD
END:VTIMEZONE
BEGIN:VEVENT
DTSTART;TZID=Europe/Bucharest:20011231T210000
DTEND;TZID=Europe/Bucharest:20011231T230000
DTSTAMP:20260424T114333
CREATED:20011231T170000Z
LAST-MODIFIED:20251023T113732Z
UID:2749-1009832400-1009839600@szinhaz.ro
SUMMARY:Viktória
DESCRIPTION:„ A közös éneklés a vastaps és többszöri ráadás az egykori népszínházas hangulatot elevenítette fel a Művelődési Ház zsúfolásig megtelt nagytermében december 31-én\, este. Annak ellenére\, hogy nem hivatásos operetténekesek szerepeltek Ábrahám Pál Viktória című nagyoperettjében\, hanem színészek alakították a közkedvelt figurákat\, a 70 évvel ezelőtti bemutatót követően állandó sikerrel játszott mű Székelyudvarhelyen sem vallott kudarcot. A siker a kiváló színészgárdának köszönhető\, a Tomcsa Sándor színtársulat minden tagja szakmai alázattal művelte a számára eddig ismeretlen műfajt – közölte lapunknak Dehel Gábor rendező.” \nSzáva Enikő – Krónika\, 2002. január 4. \n\nKözreműködtek az UDVARHELYI NÉPTÁNCMŰHELY táncosai\, a BALÁZS FERENC VEGYESKAR tagjai\, valamint a kolozsvári GHEORGHE DIMA ZENEAKADÉMIA diákjai és székelyudvarhelyi zenészek.
URL:https://szinhaz.ro/esemeny/viktoria/
LOCATION:Székelyudvarhely\, Hargita\, 535600\, Romania
CATEGORIES:operett
ATTACH;FMTTYPE=image/jpeg:https://szinhaz.ro/wp-content/uploads/2022/04/viktoriafejlec.jpg
END:VEVENT
END:VCALENDAR