BEGIN:VCALENDAR
VERSION:2.0
PRODID:-//Tomcsa Sándor Színház - ECPv6.14.1//NONSGML v1.0//EN
CALSCALE:GREGORIAN
METHOD:PUBLISH
X-ORIGINAL-URL:https://szinhaz.ro
X-WR-CALDESC:Események Tomcsa Sándor Színház
REFRESH-INTERVAL;VALUE=DURATION:PT1H
X-Robots-Tag:noindex
X-PUBLISHED-TTL:PT1H
BEGIN:VTIMEZONE
TZID:Europe/Bucharest
BEGIN:DAYLIGHT
TZOFFSETFROM:+0200
TZOFFSETTO:+0300
TZNAME:EEST
DTSTART:20050327T010000
END:DAYLIGHT
BEGIN:STANDARD
TZOFFSETFROM:+0300
TZOFFSETTO:+0200
TZNAME:EET
DTSTART:20051030T010000
END:STANDARD
END:VTIMEZONE
BEGIN:VEVENT
DTSTART;TZID=Europe/Bucharest:20050114T210000
DTEND;TZID=Europe/Bucharest:20050114T230000
DTSTAMP:20260423T232340
CREATED:20050113T220000Z
LAST-MODIFIED:20260325T090408Z
UID:2767-1105736400-1105743600@szinhaz.ro
SUMMARY:A szabin nők elrablása
DESCRIPTION:„A Szabin nők elrablása úgy szól színházról\, társadalomról\, ízlésről\, és ezek egymáshoz való viszonyáról\, hogy képes kiváltani a csodát\, amit katarzisnak nevezünk. A darabban felvázolt színház és társadalom közti viszony alapvetően mindmáig érvényes. Érzékelhető a bohém művészvilág szenvedélyessége\, romantikája\, de ezzel együtt azt is felismerhető\, ahogy a kispolgári világ képmutatón elutasítja az erkölcstelennek titulált komédiázást.” \nDehel Gábor\, rendező
URL:https://szinhaz.ro/esemeny/a-szabin-nok-elrablasa/
CATEGORIES:bohózat
ATTACH;FMTTYPE=image/jpeg:https://szinhaz.ro/wp-content/uploads/2022/04/szabinfejlec.jpg
END:VEVENT
END:VCALENDAR