BEGIN:VCALENDAR
VERSION:2.0
PRODID:-//Tomcsa Sándor Színház - ECPv6.14.1//NONSGML v1.0//EN
CALSCALE:GREGORIAN
METHOD:PUBLISH
X-ORIGINAL-URL:https://szinhaz.ro
X-WR-CALDESC:Események Tomcsa Sándor Színház
REFRESH-INTERVAL;VALUE=DURATION:PT1H
X-Robots-Tag:noindex
X-PUBLISHED-TTL:PT1H
BEGIN:VTIMEZONE
TZID:Europe/Bucharest
BEGIN:DAYLIGHT
TZOFFSETFROM:+0200
TZOFFSETTO:+0300
TZNAME:EEST
DTSTART:20100328T010000
END:DAYLIGHT
BEGIN:STANDARD
TZOFFSETFROM:+0300
TZOFFSETTO:+0200
TZNAME:EET
DTSTART:20101031T010000
END:STANDARD
END:VTIMEZONE
BEGIN:VEVENT
DTSTART;TZID=Europe/Bucharest:20101120T180000
DTEND;TZID=Europe/Bucharest:20101120T200000
DTSTAMP:20260425T185701
CREATED:20101120T170000Z
LAST-MODIFIED:20251024T060213Z
UID:3537-1290276000-1290283200@szinhaz.ro
SUMMARY:Boldogság\, gyere haza…
DESCRIPTION:Egy hétköznapi történet\, ahol a karrier\, család\, szerelem\, szeretet\, barátság játékszínterein küszködi végig magát egy nő. Egy történet\, melyben a dalok: hol sóhajok\, hol kacajok\, s hol ragyogások vagy éppen a hamuvá porladások húrjain szólnak. Vár –e még holnap\, vállalható –e a múlt\, s vajon Vele vagy Nélküle? Megtalálható-e az ami már egyszer elveszett. Egy történet az „egyetlen” érzéséről\, a csodálatos Cserháti Zsuzsa emlékére…
URL:https://szinhaz.ro/esemeny/boldogsag-gyere-haza/
LOCATION:Székelyudvarhely\, Hargita\, 535600\, Romania
ATTACH;FMTTYPE=image/jpeg:https://szinhaz.ro/wp-content/uploads/2022/05/boldogsagfejlec.jpg
END:VEVENT
END:VCALENDAR