BEGIN:VCALENDAR
VERSION:2.0
PRODID:-//Tomcsa Sándor Színház - ECPv6.14.1//NONSGML v1.0//EN
CALSCALE:GREGORIAN
METHOD:PUBLISH
X-ORIGINAL-URL:https://szinhaz.ro
X-WR-CALDESC:Események Tomcsa Sándor Színház
REFRESH-INTERVAL;VALUE=DURATION:PT1H
X-Robots-Tag:noindex
X-PUBLISHED-TTL:PT1H
BEGIN:VTIMEZONE
TZID:Europe/Bucharest
BEGIN:DAYLIGHT
TZOFFSETFROM:+0200
TZOFFSETTO:+0300
TZNAME:EEST
DTSTART:20100328T010000
END:DAYLIGHT
BEGIN:STANDARD
TZOFFSETFROM:+0300
TZOFFSETTO:+0200
TZNAME:EET
DTSTART:20101031T010000
END:STANDARD
END:VTIMEZONE
BEGIN:VEVENT
DTSTART;TZID=Europe/Bucharest:20101104T210000
DTEND;TZID=Europe/Bucharest:20101104T230000
DTSTAMP:20260425T190911
CREATED:20101104T150000Z
LAST-MODIFIED:20251024T060232Z
UID:3539-1288904400-1288911600@szinhaz.ro
SUMMARY:De mi lett a nővel?
DESCRIPTION:Anton Pavlovics Csehov a lélektani realizmus egyik legkiválóbb alkotójaként robban be a színpadokra. A leheletfinom lélekrajzok nagy mestere ő. A mély lélektani realizmus alappillére. Fájdalmas őszi hangulatok\, az eleve vesztésre ítélt elvágyódások küzdelme\, a zátonyra futott életek\, és az ezeket megélők\, az emberi gyengeségek\, és gyarlóságok\, a kisiklott pályák nagy festője\, az orosz drámairodalom egyik legnagyobb\, ha nem a legnagyobb alakja. Ha bárhol utána olvasunk általában ezeket írják róla. Azonban létezik egy másik oldala is Csehovnak\, amiről kevésszer tesz említést az irodalom\, vagy az ezzel foglalkozók hada. Alkotott egy sokkal “elvetemültebb”\, ha úgy tetszik Csehov is: az anekdoták világát megidéző\, a néhol igen kaján humorral megfűszerezett\, abszurdba hajló helyzeteket boncolgató\, olykor groteszk módon kegyetlen novellák szerzője. \nA “De mi lett a nővel?” című férfimese szám szerint nyolc elbeszélés és az általuk elmesélt helyzetekre\, történetekre épül. Csehov novelláit Kiss Csaba hihetetlen ügyességgel férceli egy összefüggő történetté\, melynek különös dramaturgiai folyama felkavaróan buja\, szenvedélyesen groteszk\, de ugyanakkor félelmetesen emberi\, hiteles és igaz. \nHárom férfi\, három színész\, három utazó. A széparcú\, szerelmes szerepekhez szokott\, hiu\, szinte nőiesen szép férfi; a táncos komikus\, a mindig vidám\, és folyton viccelődő bohóc; és az akrobata\, a hihetetlen testi adottságokkal rendelkező\, már már cirkuszba illő harmadik. És egy utazás\, látszólag soha véget nem érő utazás. Aminek egyszer csak vége szakad\, de ők hárman\, az utazók már nem akarják ezt a véget\, azonban a döntés nem az övéké. \nEgyikük\, útközben pletykaszerű mesélésbe kezd\, a bankár unokahúgáról Irina Bikulináról. Szerelmesen és csalódottan rendre megjelennek a mesélt történetek és a bennük szereplők. Irina Bikulina bujaságáról\, szinte ember fölötti lényéről a férfiak vágyának a tárgyáról\, a nőről hármuk élményei és mások által elmondott történetek\, huncut kis mesék révén egy néhol kegyetlen szembesülésekbe\, gyilkolásba torkolló fikció születik. Vagy valóság az egész? Vagy csak ők maguk teszik igazzá a nőt? A néhol vidám\, mosolyogtató\, máskor meg szívszorító\, de olykor elgondolkodtató játék végén vajon fény derül a titokra? Megtudjuk\, hogy mi lett a nővel? Vagy kiderül\, hogy mi lett hármukkal? \n Tóth Árpád\, rendező
URL:https://szinhaz.ro/esemeny/de-mi-lett-a-novel/
ATTACH;FMTTYPE=image/jpeg:https://szinhaz.ro/wp-content/uploads/2022/05/demilettenovelfejlec.jpg
END:VEVENT
END:VCALENDAR