BEGIN:VCALENDAR
VERSION:2.0
PRODID:-//Tomcsa Sándor Színház - ECPv6.14.1//NONSGML v1.0//EN
CALSCALE:GREGORIAN
METHOD:PUBLISH
X-ORIGINAL-URL:https://szinhaz.ro
X-WR-CALDESC:Események Tomcsa Sándor Színház
REFRESH-INTERVAL;VALUE=DURATION:PT1H
X-Robots-Tag:noindex
X-PUBLISHED-TTL:PT1H
BEGIN:VTIMEZONE
TZID:Europe/Bucharest
BEGIN:DAYLIGHT
TZOFFSETFROM:+0200
TZOFFSETTO:+0300
TZNAME:EEST
DTSTART:20100328T010000
END:DAYLIGHT
BEGIN:STANDARD
TZOFFSETFROM:+0300
TZOFFSETTO:+0200
TZNAME:EET
DTSTART:20101031T010000
END:STANDARD
END:VTIMEZONE
BEGIN:VEVENT
DTSTART;TZID=Europe/Bucharest:20100413T180000
DTEND;TZID=Europe/Bucharest:20100413T200000
DTSTAMP:20260426T072430
CREATED:20100413T160000Z
LAST-MODIFIED:20251024T060120Z
UID:3517-1271181600-1271188800@szinhaz.ro
SUMMARY:Skatulyácska
DESCRIPTION:„Tordon Ákos meséje klasszikus királymese. Becsület\, csalfaság\, bátorság és gonoszság\, csoda és varázslat mind elemei\, úgy összefűzve\, ahogy azt ma már elfelejtették a modern mesék.” \nSzilágyi Regina\, rendező
URL:https://szinhaz.ro/esemeny/skatulyacska/
LOCATION:Székelyudvarhely\, Hargita\, 535600\, Romania
ATTACH;FMTTYPE=image/jpeg:https://szinhaz.ro/wp-content/uploads/2022/05/skatulyacskafejlec-1024x574-1.jpg
END:VEVENT
END:VCALENDAR